BEGIN:VCALENDAR
VERSION:2.0
PRODID:-//Workshop Beeldhouwen - ECPv6.15.20//NONSGML v1.0//EN
CALSCALE:GREGORIAN
METHOD:PUBLISH
X-ORIGINAL-URL:https://www.workshopbeeldhouwen.com
X-WR-CALDESC:Evenementen voor Workshop Beeldhouwen
REFRESH-INTERVAL;VALUE=DURATION:PT1H
X-Robots-Tag:noindex
X-PUBLISHED-TTL:PT1H
BEGIN:VTIMEZONE
TZID:UTC
BEGIN:STANDARD
TZOFFSETFROM:+0000
TZOFFSETTO:+0000
TZNAME:UTC
DTSTART:20250101T000000
END:STANDARD
END:VTIMEZONE
BEGIN:VEVENT
DTSTART;VALUE=DATE:20260726
DTEND;VALUE=DATE:20260802
DTSTAMP:20260423T114539
CREATED:20250102T100452Z
LAST-MODIFIED:20260423T090210Z
UID:1594-1785024000-1785628799@www.workshopbeeldhouwen.com
SUMMARY:Beeldhouwen in Frankrijk
DESCRIPTION:Van 26 juli tot en met 1 augustus 2026 staat er een meerdaagse workshop gepland op het Domaine Le Chiron in Frankrijk. Je kunt elke dag van 09.00 tot 13.00 uur aan je eigen beeld werken onder begeleiding van Ingrid. Na de lunch kun je zelf aan de slag tot het avondeten.\nJe kan er ook voor kiezen om in klei of was te werken of te gaan schilderen\, mogelijkheden genoeg.\nDe prijs is 990 euro (dit is inclusief workshop\, maaltijden én overnachtingen\, exclusief reiskosten). \nDeze workshop is al vol\, maar je kan nog meedoen van 9 tot 15 augustus! \nDe sfeer proeven?\nRuben Koerhuis maakte een impressie van de workshop 2018.\nDeze vind je hier \nMeer informatie over de locatie  op: Domaine Le Chiron. \nJe kunt met eigen vervoer komen of met de TGV naar Poitiers reizen. Daar word je dan opgehaald. \nHeb je belangstelling laat het dan weten via ingbeeld@gmail.com of stuur een Whattsapp-bericht op 06 -20976263.
URL:https://www.workshopbeeldhouwen.com/event/beeldhouwen-in-frankrijk/
CATEGORIES:Frankrijk
ATTACH;FMTTYPE=image/jpeg:https://www.workshopbeeldhouwen.com/wp-content/uploads/2024/01/main.jpg
END:VEVENT
BEGIN:VEVENT
DTSTART;VALUE=DATE:20260809
DTEND;VALUE=DATE:20260816
DTSTAMP:20260423T114539
CREATED:20260209T114532Z
LAST-MODIFIED:20260423T090136Z
UID:14760-1786233600-1786838399@www.workshopbeeldhouwen.com
SUMMARY:Beeldhouwen in Frankrijk
DESCRIPTION:Van 26 juli tot en met 1 augustus  én van 9 tot en met 15 augustus 2026 staat er een meerdaagse workshop gepland op het Domaine Le Chiron in Frankrijk. Je kunt elke dag van 09.00 tot 13.00 uur aan je eigen beeld werken onder begeleiding van Ingrid. Na de lunch kun je zelf aan de slag tot het avondeten.\nJe kan er ook voor kiezen om in klei of was te werken of te gaan schilderen\, mogelijkheden genoeg.\nDe prijs is 990 euro (dit is inclusief workshop\, maaltijden én overnachtingen\, exclusief reiskosten). \nDe eerste workshop is al vol\, maar je kan nog meedoen met deze workshop\, van 9 tot 15 augustus! \nDe sfeer proeven?\nRuben Koerhuis maakte een impressie van de workshop 2018.\nDeze vind je hier \nMeer informatie over de locatie  op: Domaine Le Chiron. \nJe kunt met eigen vervoer komen of met de TGV naar Poitiers reizen. Daar word je dan opgehaald. \nHeb je belangstelling laat het dan weten via ingbeeld@gmail.com of stuur een Whattsapp-bericht op 06 -20976263.
URL:https://www.workshopbeeldhouwen.com/event/beeldhouwen-in-frankrijk-2/
CATEGORIES:Frankrijk
ATTACH;FMTTYPE=image/jpeg:https://www.workshopbeeldhouwen.com/wp-content/uploads/2024/01/main.jpg
END:VEVENT
END:VCALENDAR